BEGIN:VCALENDAR
VERSION:2.0
PRODID:-//British School FVG - ECPv4.6.22.1//NONSGML v1.0//EN
CALSCALE:GREGORIAN
METHOD:PUBLISH
X-WR-CALNAME:British School FVG
X-ORIGINAL-URL:https://www.british-fvg.net
X-WR-CALDESC:Events for British School FVG
BEGIN:VEVENT
DTSTART;VALUE=DATE:20170526
DTEND;VALUE=DATE:20170527
DTSTAMP:20260419T214437
CREATED:20170418T095012Z
LAST-MODIFIED:20170418T095012Z
UID:1610-1495756800-1495843199@www.british-fvg.net
SUMMARY:Trinity - Esami orali
DESCRIPTION:Trinity GESE Oral Tests \n
URL:https://www.british-fvg.net/calendario/trinity-esami-orali/
CATEGORIES:Esami scritti per b/ragazzi
END:VEVENT
END:VCALENDAR