BEGIN:VCALENDAR
VERSION:2.0
PRODID:-//British School FVG - ECPv4.6.22.1//NONSGML v1.0//EN
CALSCALE:GREGORIAN
METHOD:PUBLISH
X-WR-CALNAME:British School FVG
X-ORIGINAL-URL:https://www.british-fvg.net
X-WR-CALDESC:Events for British School FVG
BEGIN:VEVENT
DTSTART;TZID=Europe/Rome:20170526T130000
DTEND;TZID=Europe/Rome:20170526T193000
DTSTAMP:20260419T202827
CREATED:20170418T104510Z
LAST-MODIFIED:20170418T104510Z
UID:1612-1495803600-1495827000@www.british-fvg.net
SUMMARY:Trinity - Esami orali
DESCRIPTION:Trinity Orals for adults & SEW Professional \n
URL:https://www.british-fvg.net/calendario/trinity-esami-orali-2/
CATEGORIES:Esami scritti per adulti
END:VEVENT
END:VCALENDAR