BEGIN:VCALENDAR
VERSION:2.0
PRODID:-//British School FVG - ECPv4.6.22.1//NONSGML v1.0//EN
CALSCALE:GREGORIAN
METHOD:PUBLISH
X-WR-CALNAME:British School FVG
X-ORIGINAL-URL:https://www.british-fvg.net
X-WR-CALDESC:Events for British School FVG
BEGIN:VEVENT
DTSTART;VALUE=DATE:20170619
DTEND;VALUE=DATE:20170620
DTSTAMP:20260420T003144
CREATED:20170418T093031Z
LAST-MODIFIED:20170418T093031Z
UID:1590-1497830400-1497916799@www.british-fvg.net
SUMMARY:Nuovi Corsi Iniziano
DESCRIPTION:Iniziano corsi brevi e corsi intensivi – durata un mese \n
URL:https://www.british-fvg.net/calendario/nuovi-corsi-iniziano/
CATEGORIES:Corsi brevi
END:VEVENT
END:VCALENDAR