BEGIN:VCALENDAR
VERSION:2.0
PRODID:-//British School FVG - ECPv4.6.22.1//NONSGML v1.0//EN
CALSCALE:GREGORIAN
METHOD:PUBLISH
X-WR-CALNAME:British School FVG
X-ORIGINAL-URL:https://www.british-fvg.net
X-WR-CALDESC:Events for British School FVG
BEGIN:VEVENT
DTSTART;TZID=Europe/Rome:20170516T180000
DTEND;TZID=Europe/Rome:20170516T193000
DTSTAMP:20260420T020605
CREATED:20170405T104449Z
LAST-MODIFIED:20170418T084417Z
UID:1533-1494957600-1494963000@www.british-fvg.net
SUMMARY:Il Rossetti - Presentazione: "Il Prezzo” (The Price) di Arthur Miller
DESCRIPTION:Teatro Rossetti Trieste\, Sala Bartoli ore 18:00 presentazione di “Il Prezzo” (The Price) di Arthur Miller con Peter Brown – aperto al  pubblico – entrata libera fino a esaurimento posti \n
URL:https://www.british-fvg.net/calendario/il-prezzo-the-price-di-arthur-miller/
LOCATION:Teatro Il Rossetti\, Largo Giorgio Gaber\, 1\, Trieste\, Italia
CATEGORIES:Evento BS
END:VEVENT
END:VCALENDAR