BEGIN:VCALENDAR
VERSION:2.0
PRODID:-//British School FVG - ECPv4.6.22.1//NONSGML v1.0//EN
CALSCALE:GREGORIAN
METHOD:PUBLISH
X-WR-CALNAME:British School FVG
X-ORIGINAL-URL:https://www.british-fvg.net
X-WR-CALDESC:Events for British School FVG
BEGIN:VEVENT
DTSTART;VALUE=DATE:20230706
DTEND;VALUE=DATE:20230707
DTSTAMP:20260420T105739
CREATED:20230315T162343Z
LAST-MODIFIED:20230315T162343Z
UID:3278-1688601600-1688687999@www.british-fvg.net
SUMMARY:IELTS
DESCRIPTION:parti scritte 06/07/2023 sede Udine \n
URL:https://www.british-fvg.net/calendario/ielts-7/
CATEGORIES:Esami scritti per adulti
END:VEVENT
END:VCALENDAR