BEGIN:VCALENDAR
VERSION:2.0
PRODID:-//British School FVG - ECPv4.6.22.1//NONSGML v1.0//EN
CALSCALE:GREGORIAN
METHOD:PUBLISH
X-WR-CALNAME:British School FVG
X-ORIGINAL-URL:https://www.british-fvg.net
X-WR-CALDESC:Events for British School FVG
BEGIN:VEVENT
DTSTART;TZID=Europe/Rome:20170403T080000
DTEND;TZID=Europe/Rome:20170407T170000
DTSTAMP:20260420T050112
CREATED:20170405T102744Z
LAST-MODIFIED:20170405T102744Z
UID:1517-1491206400-1491584400@www.british-fvg.net
SUMMARY:IATEFL Conference
DESCRIPTION:IATEFL Conference – Glasgow\, Scotland \n
URL:https://www.british-fvg.net/calendario/iatefl-conference/
CATEGORIES:Conferenza
END:VEVENT
END:VCALENDAR