BEGIN:VCALENDAR
VERSION:2.0
PRODID:-//British School FVG - ECPv4.6.22.1//NONSGML v1.0//EN
CALSCALE:GREGORIAN
METHOD:PUBLISH
X-WR-CALNAME:British School FVG
X-ORIGINAL-URL:https://www.british-fvg.net
X-WR-CALDESC:Events for British School FVG
BEGIN:VEVENT
DTSTART;VALUE=DATE:20170425
DTEND;VALUE=DATE:20170426
DTSTAMP:20260419T231137
CREATED:20170418T094738Z
LAST-MODIFIED:20170418T094738Z
UID:1608-1493078400-1493164799@www.british-fvg.net
SUMMARY:Giorno della Liberazione -
DESCRIPTION:Giorno della Liberazione – chiuso al pubblico \n
URL:https://www.british-fvg.net/calendario/giorno-della-liberazione-2/
CATEGORIES:Vacanza
END:VEVENT
END:VCALENDAR