BEGIN:VCALENDAR
VERSION:2.0
PRODID:-//British School FVG - ECPv4.6.22.1//NONSGML v1.0//EN
CALSCALE:GREGORIAN
METHOD:PUBLISH
X-WR-CALNAME:British School FVG
X-ORIGINAL-URL:https://www.british-fvg.net
X-WR-CALDESC:Events for British School FVG
BEGIN:VEVENT
DTSTART;VALUE=DATE:20180310
DTEND;VALUE=DATE:20180311
DTSTAMP:20260421T083606
CREATED:20180109T180125Z
LAST-MODIFIED:20180305T170407Z
UID:1853-1520640000-1520726399@www.british-fvg.net
SUMMARY:Esami: Cambridge B2 First & C2 Proficiency
DESCRIPTION:Esami: B2 First e C2 Proficiency – am | parti scritte \n
URL:https://www.british-fvg.net/calendario/esami-proficiency/
CATEGORIES:Esami scritti per adulti
END:VEVENT
END:VCALENDAR