BEGIN:VCALENDAR
VERSION:2.0
PRODID:-//British School FVG - ECPv4.6.22.1//NONSGML v1.0//EN
CALSCALE:GREGORIAN
METHOD:PUBLISH
X-WR-CALNAME:British School FVG
X-ORIGINAL-URL:https://www.british-fvg.net
X-WR-CALDESC:Events for British School FVG
BEGIN:VEVENT
DTSTART;VALUE=DATE:20170527
DTEND;VALUE=DATE:20170528
DTSTAMP:20260419T214431
CREATED:20170405T125815Z
LAST-MODIFIED:20170418T092124Z
UID:1541-1495843200-1495929599@www.british-fvg.net
SUMMARY:Esami: Cambridge First for schools
DESCRIPTION:Esami: First (B2) for schools  | parti scritte \n
URL:https://www.british-fvg.net/calendario/esami-first-for-schools/
LOCATION:Tutte le sedi
CATEGORIES:Esami scritti per b/ragazzi
END:VEVENT
END:VCALENDAR