BEGIN:VCALENDAR
VERSION:2.0
PRODID:-//British School FVG - ECPv4.6.22.1//NONSGML v1.0//EN
CALSCALE:GREGORIAN
METHOD:PUBLISH
X-WR-CALNAME:British School FVG
X-ORIGINAL-URL:https://www.british-fvg.net
X-WR-CALDESC:Events for British School FVG
BEGIN:VEVENT
DTSTART;VALUE=DATE:20171201
DTEND;VALUE=DATE:20171202
DTSTAMP:20260419T131736
CREATED:20170920T091508Z
LAST-MODIFIED:20170920T091533Z
UID:1739-1512086400-1512172799@www.british-fvg.net
SUMMARY:Esami: Cambridge Preliminary
DESCRIPTION:Esami: Preliminary (B1) | parti scritte \n
URL:https://www.british-fvg.net/calendario/esami-cambridge-preliminary/
CATEGORIES:Esami scritti per adulti
END:VEVENT
END:VCALENDAR