BEGIN:VCALENDAR
VERSION:2.0
PRODID:-//British School FVG - ECPv4.6.22.1//NONSGML v1.0//EN
CALSCALE:GREGORIAN
METHOD:PUBLISH
X-WR-CALNAME:British School FVG
X-ORIGINAL-URL:https://www.british-fvg.net
X-WR-CALDESC:Events for British School FVG
BEGIN:VEVENT
DTSTART;VALUE=DATE:20210612
DTEND;VALUE=DATE:20210613
DTSTAMP:20260420T122053
CREATED:20210218T162522Z
LAST-MODIFIED:20210218T162522Z
UID:2844-1623456000-1623542399@www.british-fvg.net
SUMMARY:Esami Cambridge Key e Preliminary
DESCRIPTION:Esami:\nKey (A2) | parti scritte\nPreliminary (B1) | parti scritte \n
URL:https://www.british-fvg.net/calendario/esami-cambridge-key-e-preliminary/
CATEGORIES:Esami scritti per adulti,Esami scritti per b/ragazzi
END:VEVENT
END:VCALENDAR