BEGIN:VCALENDAR
VERSION:2.0
PRODID:-//British School FVG - ECPv4.6.22.1//NONSGML v1.0//EN
CALSCALE:GREGORIAN
METHOD:PUBLISH
X-WR-CALNAME:British School FVG
X-ORIGINAL-URL:https://www.british-fvg.net
X-WR-CALDESC:Events for British School FVG
BEGIN:VEVENT
DTSTART;VALUE=DATE:20180726
DTEND;VALUE=DATE:20180727
DTSTAMP:20260421T140731
CREATED:20180516T142708Z
LAST-MODIFIED:20180516T142708Z
UID:1980-1532563200-1532649599@www.british-fvg.net
SUMMARY:Esami Cambridge Assessment English - B2 First
DESCRIPTION:Esami: B2 FIRST -am | parti scritte \n
URL:https://www.british-fvg.net/calendario/esami-cambridge-assessment-english-b2-first-2/
CATEGORIES:Esami scritti per adulti
END:VEVENT
END:VCALENDAR