BEGIN:VCALENDAR
VERSION:2.0
PRODID:-//British School FVG - ECPv4.6.22.1//NONSGML v1.0//EN
CALSCALE:GREGORIAN
METHOD:PUBLISH
X-WR-CALNAME:British School FVG
X-ORIGINAL-URL:https://www.british-fvg.net
X-WR-CALDESC:Events for British School FVG
BEGIN:VEVENT
DTSTART;VALUE=DATE:20170720
DTEND;VALUE=DATE:20170721
DTSTAMP:20260419T230613
CREATED:20170418T093744Z
LAST-MODIFIED:20170418T093820Z
UID:1597-1500508800-1500595199@www.british-fvg.net
SUMMARY:Esami: Cambridge Advanced
DESCRIPTION:Esami: Advanced (C1) | parti scritte \n
URL:https://www.british-fvg.net/calendario/esami-cambridge-advnced/
CATEGORIES:Esami scritti per adulti
END:VEVENT
END:VCALENDAR