BEGIN:VCALENDAR
VERSION:2.0
PRODID:-//British School FVG - ECPv4.6.22.1//NONSGML v1.0//EN
CALSCALE:GREGORIAN
METHOD:PUBLISH
X-WR-CALNAME:British School FVG
X-ORIGINAL-URL:https://www.british-fvg.net
X-WR-CALDESC:Events for British School FVG
BEGIN:VEVENT
DTSTART;VALUE=DATE:20171014
DTEND;VALUE=DATE:20171015
DTSTAMP:20260419T131605
CREATED:20170721T102706Z
LAST-MODIFIED:20170721T102749Z
UID:1683-1507939200-1508025599@www.british-fvg.net
SUMMARY:Esami: Cambridge Advanced
DESCRIPTION:Esami: Advanced (C1) | parti scritte \n
URL:https://www.british-fvg.net/calendario/esami-cambridge-advanced/
CATEGORIES:Esami scritti per adulti
END:VEVENT
END:VCALENDAR