BEGIN:VCALENDAR
VERSION:2.0
PRODID:-//British School FVG - ECPv4.6.22.1//NONSGML v1.0//EN
CALSCALE:GREGORIAN
METHOD:PUBLISH
X-WR-CALNAME:British School FVG
X-ORIGINAL-URL:https://www.british-fvg.net
X-WR-CALDESC:Events for British School FVG
BEGIN:VEVENT
DTSTART;VALUE=DATE:20170427
DTEND;VALUE=DATE:20170430
DTSTAMP:20260420T002849
CREATED:20170405T103523Z
LAST-MODIFIED:20170418T111611Z
UID:1526-1493251200-1493510399@www.british-fvg.net
SUMMARY:Eaquals AGM
DESCRIPTION:Eaquals AGM – Riga\, Latvia \nhttp://www.Eaquals.org \nFind out more as Eaquals celebrates its 25th anniversary: \nhttps://vimeo.com/168926490 \n
URL:https://www.british-fvg.net/calendario/eaquals-agm/
CATEGORIES:Conferenza
END:VEVENT
END:VCALENDAR