BEGIN:VCALENDAR
VERSION:2.0
PRODID:-//British School FVG - ECPv4.6.22.1//NONSGML v1.0//EN
CALSCALE:GREGORIAN
METHOD:PUBLISH
X-WR-CALNAME:British School FVG
X-ORIGINAL-URL:https://www.british-fvg.net
X-WR-CALDESC:Events for British School FVG
BEGIN:VEVENT
DTSTART;VALUE=DATE:20180313
DTEND;VALUE=DATE:20180314
DTSTAMP:20260421T083343
CREATED:20180309T152659Z
LAST-MODIFIED:20180309T152719Z
UID:1929-1520899200-1520985599@www.british-fvg.net
SUMMARY:Corso First
DESCRIPTION:Partenza corso B2 First \n
URL:https://www.british-fvg.net/calendario/corso-first/
CATEGORIES:Corsi
END:VEVENT
END:VCALENDAR