BEGIN:VCALENDAR
VERSION:2.0
PRODID:-//British School FVG - ECPv4.6.22.1//NONSGML v1.0//EN
CALSCALE:GREGORIAN
METHOD:PUBLISH
X-WR-CALNAME:British School FVG
X-ORIGINAL-URL:https://www.british-fvg.net
X-WR-CALDESC:Events for British School FVG
BEGIN:VEVENT
DTSTART;VALUE=DATE:20180206
DTEND;VALUE=DATE:20180207
DTSTAMP:20260421T095435
CREATED:20180126T114316Z
LAST-MODIFIED:20180126T114316Z
UID:1885-1517875200-1517961599@www.british-fvg.net
SUMMARY:Corso adulti livello A2
DESCRIPTION:Inizio corso adulti livello A2 \n
URL:https://www.british-fvg.net/calendario/corso-adulti-livello-a2/
CATEGORIES:Corsi
END:VEVENT
END:VCALENDAR