BEGIN:VCALENDAR
VERSION:2.0
PRODID:-//British School FVG - ECPv4.6.22.1//NONSGML v1.0//EN
CALSCALE:GREGORIAN
METHOD:PUBLISH
X-WR-CALNAME:British School FVG
X-ORIGINAL-URL:https://www.british-fvg.net
X-WR-CALDESC:Events for British School FVG
BEGIN:VEVENT
DTSTART;TZID=Europe/Rome:20170913T090000
DTEND;TZID=Europe/Rome:20170913T120000
DTSTAMP:20260419T120712
CREATED:20170721T084059Z
LAST-MODIFIED:20170721T085246Z
UID:1677-1505293200-1505304000@www.british-fvg.net
SUMMARY:Chiusura Iscrizioni per ottobre - Advanced
DESCRIPTION:Chiusura Iscrizioni per Cambridge Advanced (C1)  – sessione di ottobre 2017 – \nLe iscrizioni chiudono alle ore 12:00 . \n
URL:https://www.british-fvg.net/calendario/chiusura-iscrizioni-per-ottobre-advanced/
CATEGORIES:Scadenza
END:VEVENT
END:VCALENDAR