BEGIN:VCALENDAR
VERSION:2.0
PRODID:-//British School FVG - ECPv4.6.22.1//NONSGML v1.0//EN
CALSCALE:GREGORIAN
METHOD:PUBLISH
X-WR-CALNAME:British School FVG
X-ORIGINAL-URL:https://www.british-fvg.net
X-WR-CALDESC:Events for British School FVG
BEGIN:VEVENT
DTSTART;TZID=Europe/Rome:20170617T090000
DTEND;TZID=Europe/Rome:20170617T120000
DTSTAMP:20260420T000822
CREATED:20170418T082832Z
LAST-MODIFIED:20170418T091616Z
UID:1562-1497690000-1497700800@www.british-fvg.net
SUMMARY:Chiusura Iscrizioni per luglio - First & Advanced
DESCRIPTION:Chiusura Iscrizioni per Cambridge First (B2) e Advanced (C1) – sessioni di luglio 2017 – per IT015 Trieste. \nLe iscrizioni si chiudono alle 12:00. \n
URL:https://www.british-fvg.net/calendario/chiusura-iscrizioni-first-advanced/
CATEGORIES:Scadenza
END:VEVENT
END:VCALENDAR