BEGIN:VCALENDAR
VERSION:2.0
PRODID:-//British School FVG - ECPv4.6.22.1//NONSGML v1.0//EN
CALSCALE:GREGORIAN
METHOD:PUBLISH
X-WR-CALNAME:British School FVG
X-ORIGINAL-URL:https://www.british-fvg.net
X-WR-CALDESC:Events for British School FVG
BEGIN:VEVENT
DTSTART;VALUE=DATE:20180210
DTEND;VALUE=DATE:20180211
DTSTAMP:20260421T112403
CREATED:20180126T114455Z
LAST-MODIFIED:20180126T144939Z
UID:1887-1518220800-1518307199@www.british-fvg.net
SUMMARY:Chiusura iscrizioni  TKT
DESCRIPTION:Si chiudono le iscrizioni al TKT – Teaching Knowledge Test. \n
URL:https://www.british-fvg.net/calendario/chiusura-iscrizioni-corso-tkt/
CATEGORIES:Scadenza
END:VEVENT
END:VCALENDAR