BEGIN:VCALENDAR
VERSION:2.0
PRODID:-//British School FVG - ECPv4.6.22.1//NONSGML v1.0//EN
CALSCALE:GREGORIAN
METHOD:PUBLISH
X-WR-CALNAME:British School FVG
X-ORIGINAL-URL:https://www.british-fvg.net
X-WR-CALDESC:Events for British School FVG
BEGIN:VEVENT
DTSTART;TZID=Europe/Rome:20170906T090000
DTEND;TZID=Europe/Rome:20170906T120000
DTSTAMP:20260419T133253
CREATED:20170721T083629Z
LAST-MODIFIED:20170721T083644Z
UID:1674-1504688400-1504699200@www.british-fvg.net
SUMMARY:Chiusura Iscrizioni per ottobre - First & Preliminary
DESCRIPTION:Chiusura Iscrizioni per Cambridge First (B2) e Preliminary (B1) – sessioni di ottobre 2017 – \nLe iscrizioni chiudono alle ore 12:00 . \n
URL:https://www.british-fvg.net/calendario/chiusura-iscrizionei-per-ottobre-firse-preliminary/
CATEGORIES:Scadenza
END:VEVENT
END:VCALENDAR