BEGIN:VCALENDAR
VERSION:2.0
PRODID:-//British School FVG - ECPv4.6.22.1//NONSGML v1.0//EN
CALSCALE:GREGORIAN
METHOD:PUBLISH
X-WR-CALNAME:British School FVG
X-ORIGINAL-URL:https://www.british-fvg.net
X-WR-CALDESC:Events for British School FVG
BEGIN:VEVENT
DTSTART;VALUE=DATE:20200203
DTEND;VALUE=DATE:20200204
DTSTAMP:20260426T005201
CREATED:20191213T084845Z
LAST-MODIFIED:20191213T084845Z
UID:2472-1580688000-1580774399@www.british-fvg.net
SUMMARY:Partenza corsi brevi
DESCRIPTION:Livello A0 “Principianti assoluti” (40 ore);\nLivello B2 per il mondo del lavoro (24 ore);\nLivello C1 per certificazioni Cambridge a Giugno/Luglio 2020 (40 ore);\nLivello C2 conversazione (24 ore). \n
URL:https://www.british-fvg.net/calendario/partenza-corsi-brevi-2/
CATEGORIES:Corsi brevi,corsi intensivi Cambridge
END:VEVENT
END:VCALENDAR