BEGIN:VCALENDAR
VERSION:2.0
PRODID:-//British School FVG - ECPv4.6.22.1//NONSGML v1.0//EN
CALSCALE:GREGORIAN
METHOD:PUBLISH
X-WR-CALNAME:British School FVG
X-ORIGINAL-URL:https://www.british-fvg.net
X-WR-CALDESC:Events for British School FVG
BEGIN:VEVENT
DTSTART;VALUE=DATE:20170608
DTEND;VALUE=DATE:20170609
DTSTAMP:20260420T032421
CREATED:20170418T090750Z
LAST-MODIFIED:20170418T091957Z
UID:1575-1496880000-1496966399@www.british-fvg.net
SUMMARY:Esami: Cambridge Proficiency
DESCRIPTION:Esami: Proficiency (C2)  | parti scritte \n
URL:https://www.british-fvg.net/calendario/cambridge-proficiency/
CATEGORIES:Esami scritti per adulti
END:VEVENT
END:VCALENDAR