BEGIN:VCALENDAR
VERSION:2.0
PRODID:-//British School FVG - ECPv4.6.22.1//NONSGML v1.0//EN
CALSCALE:GREGORIAN
METHOD:PUBLISH
X-WR-CALNAME:British School FVG
X-ORIGINAL-URL:https://www.british-fvg.net
X-WR-CALDESC:Events for British School FVG
BEGIN:VEVENT
DTSTART;VALUE=DATE:20171118
DTEND;VALUE=DATE:20171119
DTSTAMP:20260419T131859
CREATED:20170920T081619Z
LAST-MODIFIED:20170920T081619Z
UID:1735-1510963200-1511049599@www.british-fvg.net
SUMMARY:Cambridge English: Business Higher
DESCRIPTION:Esami: Business English Certificate (BEC) Higher (C1) | parti scritte \n
URL:https://www.british-fvg.net/calendario/cambridge-english-business-higher/
CATEGORIES:Esami scritti per adulti
END:VEVENT
END:VCALENDAR