BEGIN:VCALENDAR
VERSION:2.0
PRODID:-//British School FVG - ECPv4.6.22.1//NONSGML v1.0//EN
CALSCALE:GREGORIAN
METHOD:PUBLISH
X-WR-CALNAME:British School FVG
X-ORIGINAL-URL:https://www.british-fvg.net
X-WR-CALDESC:Events for British School FVG
BEGIN:VEVENT
DTSTART;VALUE=DATE:20170607
DTEND;VALUE=DATE:20170608
DTSTAMP:20260420T001526
CREATED:20170418T090622Z
LAST-MODIFIED:20170418T092045Z
UID:1573-1496793600-1496879999@www.british-fvg.net
SUMMARY:Esami: Cambridge Advanced
DESCRIPTION:Esami: Advanced (C1)  | parti scritte \n
URL:https://www.british-fvg.net/calendario/cambridge-advanced/
CATEGORIES:Esami scritti per adulti
END:VEVENT
END:VCALENDAR