BEGIN:VCALENDAR
VERSION:2.0
PRODID:-//British School FVG - ECPv4.6.22.1//NONSGML v1.0//EN
CALSCALE:GREGORIAN
METHOD:PUBLISH
X-WR-CALNAME:British School FVG
X-ORIGINAL-URL:https://www.british-fvg.net
X-WR-CALDESC:Events for British School FVG
BEGIN:VEVENT
DTSTART;TZID=Europe/Rome:20170907T080000
DTEND;TZID=Europe/Rome:20170909T170000
DTSTAMP:20260419T144020
CREATED:20170904T092945Z
LAST-MODIFIED:20170904T092945Z
UID:1699-1504771200-1504976400@www.british-fvg.net
SUMMARY:AISLi DOS Days
DESCRIPTION:
URL:https://www.british-fvg.net/calendario/aisli-dos-days/
CATEGORIES:Conferenza
END:VEVENT
END:VCALENDAR