BEGIN:VCALENDAR
VERSION:2.0
PRODID:-//British School FVG - ECPv4.6.22.1//NONSGML v1.0//EN
CALSCALE:GREGORIAN
METHOD:PUBLISH
X-WR-CALNAME:British School FVG
X-ORIGINAL-URL:https://www.british-fvg.net
X-WR-CALDESC:Events for British School FVG
BEGIN:VEVENT
DTSTART;VALUE=DATE:20211201
DTEND;VALUE=DATE:20211202
DTSTAMP:20260420T105907
CREATED:20210902T145938Z
LAST-MODIFIED:20210902T150641Z
UID:2957-1638316800-1638403199@www.british-fvg.net
SUMMARY:Advanced|CAE parti scritte
DESCRIPTION:Advanced|CAE (C1) – parti scritte \n
URL:https://www.british-fvg.net/calendario/advancedcae-parti-scritte-2/
CATEGORIES:Esami scritti per adulti
END:VEVENT
END:VCALENDAR